BEGIN:VCALENDAR
VERSION:2.0
PRODID:-//XLA Institute - ECPv6.15.20//NONSGML v1.0//EN
CALSCALE:GREGORIAN
METHOD:PUBLISH
X-ORIGINAL-URL:https://xla.institute
X-WR-CALDESC:Events for XLA Institute
REFRESH-INTERVAL;VALUE=DURATION:PT1H
X-Robots-Tag:noindex
X-PUBLISHED-TTL:PT1H
BEGIN:VTIMEZONE
TZID:Europe/London
BEGIN:DAYLIGHT
TZOFFSETFROM:+0000
TZOFFSETTO:+0100
TZNAME:BST
DTSTART:20240331T010000
END:DAYLIGHT
BEGIN:STANDARD
TZOFFSETFROM:+0100
TZOFFSETTO:+0000
TZNAME:GMT
DTSTART:20241027T010000
END:STANDARD
BEGIN:DAYLIGHT
TZOFFSETFROM:+0000
TZOFFSETTO:+0100
TZNAME:BST
DTSTART:20250330T010000
END:DAYLIGHT
BEGIN:STANDARD
TZOFFSETFROM:+0100
TZOFFSETTO:+0000
TZNAME:GMT
DTSTART:20251026T010000
END:STANDARD
BEGIN:DAYLIGHT
TZOFFSETFROM:+0000
TZOFFSETTO:+0100
TZNAME:BST
DTSTART:20260329T010000
END:DAYLIGHT
BEGIN:STANDARD
TZOFFSETFROM:+0100
TZOFFSETTO:+0000
TZNAME:GMT
DTSTART:20261025T010000
END:STANDARD
END:VTIMEZONE
BEGIN:VTIMEZONE
TZID:America/New_York
BEGIN:DAYLIGHT
TZOFFSETFROM:-0500
TZOFFSETTO:-0400
TZNAME:EDT
DTSTART:20240310T070000
END:DAYLIGHT
BEGIN:STANDARD
TZOFFSETFROM:-0400
TZOFFSETTO:-0500
TZNAME:EST
DTSTART:20241103T060000
END:STANDARD
BEGIN:DAYLIGHT
TZOFFSETFROM:-0500
TZOFFSETTO:-0400
TZNAME:EDT
DTSTART:20250309T070000
END:DAYLIGHT
BEGIN:STANDARD
TZOFFSETFROM:-0400
TZOFFSETTO:-0500
TZNAME:EST
DTSTART:20251102T060000
END:STANDARD
BEGIN:DAYLIGHT
TZOFFSETFROM:-0500
TZOFFSETTO:-0400
TZNAME:EDT
DTSTART:20260308T070000
END:DAYLIGHT
BEGIN:STANDARD
TZOFFSETFROM:-0400
TZOFFSETTO:-0500
TZNAME:EST
DTSTART:20261101T060000
END:STANDARD
END:VTIMEZONE
BEGIN:VEVENT
DTSTART;TZID=Europe/London:20250217T093000
DTEND;TZID=Europe/London:20250217T160000
DTSTAMP:20260424T213719
CREATED:20241217T152407Z
LAST-MODIFIED:20250113T162919Z
UID:10000035-1739784600-1739808000@xla.institute
SUMMARY:XLA in a Day - UK/Benelux
DESCRIPTION:The XLA Foundation Certification is designed as a comprehensive introduction to employee and customer experience management and Experience Level Agreements (XLAs). It enables candidates to design\, implement\, govern\, and manage XLAs using a structured best-practices approach rooted in experience science. \nThe certification focuses on measuring\, analyzing\, and improving both employee experience (EX) and customer experience (CX) across IT and digital services\, moving beyond traditional SLA-driven performance metrics. By emphasizing outcome-based measurement\, human-centered design\, and perception-driven insights\, the program helps organizations better understand how technology services are actually experienced by people. \nUltimately\, the XLA Foundation Certification equips professionals with the knowledge and mindset required to foster a more human-centric IT environment-one that aligns service delivery with meaningful experiences for employees and customers while driving business value and trust. \n\n\n	\n		\n\n			Register your place:\n	\n	\n	\n\n                \n                        Naam(Required)\n                            \n                            \n                                                    \n                                                    First\n                                                \n                            \n                            \n                                                    \n                                                    Last\n                                                \n                            \n                        Job Title(Required)Company(Required)E-mailadres(Required)
URL:https://xla.institute/training/xla-in-a-day-uk-benelux-1/
CATEGORIES:XLA in a Day
END:VEVENT
BEGIN:VEVENT
DTSTART;TZID=Europe/London:20250218T093000
DTEND;TZID=Europe/London:20250220T163000
DTSTAMP:20260424T213719
CREATED:20250205T095303Z
LAST-MODIFIED:20250205T100922Z
UID:10000046-1739871000-1740069000@xla.institute
SUMMARY:Experience Foundation
DESCRIPTION:The XLA Foundation Certification is designed as a comprehensive introduction to employee and customer experience management and Experience Level Agreements (XLAs). It enables candidates to design\, implement\, govern\, and manage XLAs using a structured best-practices approach rooted in experience science. \nThe certification focuses on measuring\, analyzing\, and improving both employee experience (EX) and customer experience (CX) across IT and digital services\, moving beyond traditional SLA-driven performance metrics. By emphasizing outcome-based measurement\, human-centered design\, and perception-driven insights\, the program helps organizations better understand how technology services are actually experienced by people. \nUltimately\, the XLA Foundation Certification equips professionals with the knowledge and mindset required to foster a more human-centric IT environment-one that aligns service delivery with meaningful experiences for employees and customers while driving business value and trust. \n\n\n	\n		\n\n			Register your place:\n	\n	\n	\n                \n                        Naam(Required)\n                            \n                            \n                                                    \n                                                    First\n                                                \n                            \n                            \n                                                    \n                                                    Last\n                                                \n                            \n                        Job Title(Required)Company(Required)E-mailadres(Required)
URL:https://xla.institute/training/experience-foundation-3/
CATEGORIES:Experience Foundation
ATTACH;FMTTYPE=image/png:https://xla.institute/wp-content/uploads/XLABS-event-icon.png
END:VEVENT
BEGIN:VEVENT
DTSTART;TZID=America/New_York:20250227T103000
DTEND;TZID=America/New_York:20250227T154500
DTSTAMP:20260424T213719
CREATED:20250205T105648Z
LAST-MODIFIED:20250218T094311Z
UID:10000041-1740652200-1740671100@xla.institute
SUMMARY:From Insight to Implementation: Mastering XLAs for Next-Level Service Experience
DESCRIPTION:The XLA Foundation Certification is designed as a comprehensive introduction to employee and customer experience management and Experience Level Agreements (XLAs). It enables candidates to design\, implement\, govern\, and manage XLAs using a structured best-practices approach rooted in experience science. \nThe certification focuses on measuring\, analyzing\, and improving both employee experience (EX) and customer experience (CX) across IT and digital services\, moving beyond traditional SLA-driven performance metrics. By emphasizing outcome-based measurement\, human-centered design\, and perception-driven insights\, the program helps organizations better understand how technology services are actually experienced by people. \nUltimately\, the XLA Foundation Certification equips professionals with the knowledge and mindset required to foster a more human-centric IT environment-one that aligns service delivery with meaningful experiences for employees and customers while driving business value and trust. \n\n\n	\n		\n\n			Register your place:\n	\n	\n	\n                \n                        Naam(Required)\n                            \n                            \n                                                    \n                                                    First\n                                                \n                            \n                            \n                                                    \n                                                    Last\n                                                \n                            \n                        Job Title(Required)Company(Required)E-mailadres(Required)
URL:https://xla.institute/training/from-insight-to-implementation-mastering-xlas-for-next-level-service-experience/
CATEGORIES:Joint Event
ATTACH;FMTTYPE=image/png:https://xla.institute/wp-content/uploads/XLAi-x-SDI.png
END:VEVENT
END:VCALENDAR