BEGIN:VCALENDAR
VERSION:2.0
PRODID:-//XLA Institute - ECPv6.15.20//NONSGML v1.0//EN
CALSCALE:GREGORIAN
METHOD:PUBLISH
X-WR-CALNAME:XLA Institute
X-ORIGINAL-URL:https://xla.institute
X-WR-CALDESC:Events for XLA Institute
REFRESH-INTERVAL;VALUE=DURATION:PT1H
X-Robots-Tag:noindex
X-PUBLISHED-TTL:PT1H
BEGIN:VTIMEZONE
TZID:Europe/Amsterdam
BEGIN:DAYLIGHT
TZOFFSETFROM:+0100
TZOFFSETTO:+0200
TZNAME:CEST
DTSTART:20240331T010000
END:DAYLIGHT
BEGIN:STANDARD
TZOFFSETFROM:+0200
TZOFFSETTO:+0100
TZNAME:CET
DTSTART:20241027T010000
END:STANDARD
BEGIN:DAYLIGHT
TZOFFSETFROM:+0100
TZOFFSETTO:+0200
TZNAME:CEST
DTSTART:20250330T010000
END:DAYLIGHT
BEGIN:STANDARD
TZOFFSETFROM:+0200
TZOFFSETTO:+0100
TZNAME:CET
DTSTART:20251026T010000
END:STANDARD
BEGIN:DAYLIGHT
TZOFFSETFROM:+0100
TZOFFSETTO:+0200
TZNAME:CEST
DTSTART:20260329T010000
END:DAYLIGHT
BEGIN:STANDARD
TZOFFSETFROM:+0200
TZOFFSETTO:+0100
TZNAME:CET
DTSTART:20261025T010000
END:STANDARD
END:VTIMEZONE
BEGIN:VTIMEZONE
TZID:Europe/London
BEGIN:DAYLIGHT
TZOFFSETFROM:+0000
TZOFFSETTO:+0100
TZNAME:BST
DTSTART:20240331T010000
END:DAYLIGHT
BEGIN:STANDARD
TZOFFSETFROM:+0100
TZOFFSETTO:+0000
TZNAME:GMT
DTSTART:20241027T010000
END:STANDARD
BEGIN:DAYLIGHT
TZOFFSETFROM:+0000
TZOFFSETTO:+0100
TZNAME:BST
DTSTART:20250330T010000
END:DAYLIGHT
BEGIN:STANDARD
TZOFFSETFROM:+0100
TZOFFSETTO:+0000
TZNAME:GMT
DTSTART:20251026T010000
END:STANDARD
BEGIN:DAYLIGHT
TZOFFSETFROM:+0000
TZOFFSETTO:+0100
TZNAME:BST
DTSTART:20260329T010000
END:DAYLIGHT
BEGIN:STANDARD
TZOFFSETFROM:+0100
TZOFFSETTO:+0000
TZNAME:GMT
DTSTART:20261025T010000
END:STANDARD
END:VTIMEZONE
BEGIN:VTIMEZONE
TZID:America/Los_Angeles
BEGIN:DAYLIGHT
TZOFFSETFROM:-0800
TZOFFSETTO:-0700
TZNAME:PDT
DTSTART:20240310T100000
END:DAYLIGHT
BEGIN:STANDARD
TZOFFSETFROM:-0700
TZOFFSETTO:-0800
TZNAME:PST
DTSTART:20241103T090000
END:STANDARD
BEGIN:DAYLIGHT
TZOFFSETFROM:-0800
TZOFFSETTO:-0700
TZNAME:PDT
DTSTART:20250309T100000
END:DAYLIGHT
BEGIN:STANDARD
TZOFFSETFROM:-0700
TZOFFSETTO:-0800
TZNAME:PST
DTSTART:20251102T090000
END:STANDARD
BEGIN:DAYLIGHT
TZOFFSETFROM:-0800
TZOFFSETTO:-0700
TZNAME:PDT
DTSTART:20260308T100000
END:DAYLIGHT
BEGIN:STANDARD
TZOFFSETFROM:-0700
TZOFFSETTO:-0800
TZNAME:PST
DTSTART:20261101T090000
END:STANDARD
END:VTIMEZONE
BEGIN:VEVENT
DTSTART;VALUE=DATE:20250114
DTEND;VALUE=DATE:20250115
DTSTAMP:20260424T233444
CREATED:20241126T145436Z
LAST-MODIFIED:20250107T165815Z
UID:10000030-1736812800-1736899199@xla.institute
SUMMARY:Member Meetup - hosted by ABN AMRO
DESCRIPTION:The XLA Foundation Certification is designed as a comprehensive introduction to employee and customer experience management and Experience Level Agreements (XLAs). It enables candidates to design\, implement\, govern\, and manage XLAs using a structured best-practices approach rooted in experience science. \nThe certification focuses on measuring\, analyzing\, and improving both employee experience (EX) and customer experience (CX) across IT and digital services\, moving beyond traditional SLA-driven performance metrics. By emphasizing outcome-based measurement\, human-centered design\, and perception-driven insights\, the program helps organizations better understand how technology services are actually experienced by people. \nUltimately\, the XLA Foundation Certification equips professionals with the knowledge and mindset required to foster a more human-centric IT environment-one that aligns service delivery with meaningful experiences for employees and customers while driving business value and trust. \n\n\n	\n		\n\n			Register your place:\n	\n	\n	\n\n                \n                        Naam(Required)\n                            \n                            \n                                                    \n                                                    First\n                                                \n                            \n                            \n                                                    \n                                                    Last\n                                                \n                            \n                        Job Title(Required)Company(Required)E-mailadres(Required)
URL:https://xla.institute/training/member-meetup-hosted-by-abn-amro/
LOCATION:ABM AMRO – Amstelveen\, ABN AMRO\, Eleanor Rooseveltlaan 1\, Amstelveen\, Amsterdam\, 1183 CM\, Netherlands
CATEGORIES:Meetup
ATTACH;FMTTYPE=image/png:https://xla.institute/wp-content/uploads/ABN-AMRO-logo.png
END:VEVENT
BEGIN:VEVENT
DTSTART;TZID=Europe/London:20250120T093000
DTEND;TZID=Europe/London:20250120T160000
DTSTAMP:20260424T233444
CREATED:20241217T152352Z
LAST-MODIFIED:20250506T122503Z
UID:10000034-1737365400-1737388800@xla.institute
SUMMARY:XLA in a Day - UK/Benelux
DESCRIPTION:The XLA Foundation Certification is designed as a comprehensive introduction to employee and customer experience management and Experience Level Agreements (XLAs). It enables candidates to design\, implement\, govern\, and manage XLAs using a structured best-practices approach rooted in experience science. \nThe certification focuses on measuring\, analyzing\, and improving both employee experience (EX) and customer experience (CX) across IT and digital services\, moving beyond traditional SLA-driven performance metrics. By emphasizing outcome-based measurement\, human-centered design\, and perception-driven insights\, the program helps organizations better understand how technology services are actually experienced by people. \nUltimately\, the XLA Foundation Certification equips professionals with the knowledge and mindset required to foster a more human-centric IT environment-one that aligns service delivery with meaningful experiences for employees and customers while driving business value and trust. \n\n\n	\n		\n\n			Register your place:\n	\n	\n	\n                \n                        Naam(Required)\n                            \n                            \n                                                    \n                                                    First\n                                                \n                            \n                            \n                                                    \n                                                    Last\n                                                \n                            \n                        Job Title(Required)Company(Required)E-mailadres(Required)
URL:https://xla.institute/training/xla-in-a-day-uk-benelux/
CATEGORIES:XLA in a Day
END:VEVENT
BEGIN:VEVENT
DTSTART;VALUE=DATE:20250128
DTEND;VALUE=DATE:20250129
DTSTAMP:20260424T233444
CREATED:20241213T113008Z
LAST-MODIFIED:20250203T123642Z
UID:10000031-1738022400-1738108799@xla.institute
SUMMARY:XLA Institute US Launch Event
DESCRIPTION:The XLA Foundation Certification is designed as a comprehensive introduction to employee and customer experience management and Experience Level Agreements (XLAs). It enables candidates to design\, implement\, govern\, and manage XLAs using a structured best-practices approach rooted in experience science. \nThe certification focuses on measuring\, analyzing\, and improving both employee experience (EX) and customer experience (CX) across IT and digital services\, moving beyond traditional SLA-driven performance metrics. By emphasizing outcome-based measurement\, human-centered design\, and perception-driven insights\, the program helps organizations better understand how technology services are actually experienced by people. \nUltimately\, the XLA Foundation Certification equips professionals with the knowledge and mindset required to foster a more human-centric IT environment-one that aligns service delivery with meaningful experiences for employees and customers while driving business value and trust. \n\n\n	\n		\n\n			Register your place:\n	\n	\n	\n                \n                        Naam(Required)\n                            \n                            \n                                                    \n                                                    First\n                                                \n                            \n                            \n                                                    \n                                                    Last\n                                                \n                            \n                        Job Title(Required)Company(Required)E-mailadres(Required)
URL:https://xla.institute/training/xla-institute-us-launch-event/
CATEGORIES:Chapter Launch
ATTACH;FMTTYPE=image/png:https://xla.institute/wp-content/uploads/US-Launch-Event-image.png
END:VEVENT
END:VCALENDAR