BEGIN:VCALENDAR
VERSION:2.0
PRODID:-//XLA Institute - ECPv6.15.20//NONSGML v1.0//EN
CALSCALE:GREGORIAN
METHOD:PUBLISH
X-WR-CALNAME:XLA Institute
X-ORIGINAL-URL:https://xla.institute
X-WR-CALDESC:Events for XLA Institute
REFRESH-INTERVAL;VALUE=DURATION:PT1H
X-Robots-Tag:noindex
X-PUBLISHED-TTL:PT1H
BEGIN:VTIMEZONE
TZID:Europe/Amsterdam
BEGIN:DAYLIGHT
TZOFFSETFROM:+0100
TZOFFSETTO:+0200
TZNAME:CEST
DTSTART:20250330T010000
END:DAYLIGHT
BEGIN:STANDARD
TZOFFSETFROM:+0200
TZOFFSETTO:+0100
TZNAME:CET
DTSTART:20251026T010000
END:STANDARD
BEGIN:DAYLIGHT
TZOFFSETFROM:+0100
TZOFFSETTO:+0200
TZNAME:CEST
DTSTART:20260329T010000
END:DAYLIGHT
BEGIN:STANDARD
TZOFFSETFROM:+0200
TZOFFSETTO:+0100
TZNAME:CET
DTSTART:20261025T010000
END:STANDARD
BEGIN:DAYLIGHT
TZOFFSETFROM:+0100
TZOFFSETTO:+0200
TZNAME:CEST
DTSTART:20270328T010000
END:DAYLIGHT
BEGIN:STANDARD
TZOFFSETFROM:+0200
TZOFFSETTO:+0100
TZNAME:CET
DTSTART:20271031T010000
END:STANDARD
END:VTIMEZONE
BEGIN:VTIMEZONE
TZID:Asia/Kolkata
BEGIN:STANDARD
TZOFFSETFROM:+0530
TZOFFSETTO:+0530
TZNAME:IST
DTSTART:20250101T000000
END:STANDARD
END:VTIMEZONE
BEGIN:VTIMEZONE
TZID:Europe/London
BEGIN:DAYLIGHT
TZOFFSETFROM:+0000
TZOFFSETTO:+0100
TZNAME:BST
DTSTART:20250330T010000
END:DAYLIGHT
BEGIN:STANDARD
TZOFFSETFROM:+0100
TZOFFSETTO:+0000
TZNAME:GMT
DTSTART:20251026T010000
END:STANDARD
BEGIN:DAYLIGHT
TZOFFSETFROM:+0000
TZOFFSETTO:+0100
TZNAME:BST
DTSTART:20260329T010000
END:DAYLIGHT
BEGIN:STANDARD
TZOFFSETFROM:+0100
TZOFFSETTO:+0000
TZNAME:GMT
DTSTART:20261025T010000
END:STANDARD
BEGIN:DAYLIGHT
TZOFFSETFROM:+0000
TZOFFSETTO:+0100
TZNAME:BST
DTSTART:20270328T010000
END:DAYLIGHT
BEGIN:STANDARD
TZOFFSETFROM:+0100
TZOFFSETTO:+0000
TZNAME:GMT
DTSTART:20271031T010000
END:STANDARD
END:VTIMEZONE
BEGIN:VTIMEZONE
TZID:America/New_York
BEGIN:DAYLIGHT
TZOFFSETFROM:-0500
TZOFFSETTO:-0400
TZNAME:EDT
DTSTART:20250309T070000
END:DAYLIGHT
BEGIN:STANDARD
TZOFFSETFROM:-0400
TZOFFSETTO:-0500
TZNAME:EST
DTSTART:20251102T060000
END:STANDARD
BEGIN:DAYLIGHT
TZOFFSETFROM:-0500
TZOFFSETTO:-0400
TZNAME:EDT
DTSTART:20260308T070000
END:DAYLIGHT
BEGIN:STANDARD
TZOFFSETFROM:-0400
TZOFFSETTO:-0500
TZNAME:EST
DTSTART:20261101T060000
END:STANDARD
BEGIN:DAYLIGHT
TZOFFSETFROM:-0500
TZOFFSETTO:-0400
TZNAME:EDT
DTSTART:20270314T070000
END:DAYLIGHT
BEGIN:STANDARD
TZOFFSETFROM:-0400
TZOFFSETTO:-0500
TZNAME:EST
DTSTART:20271107T060000
END:STANDARD
END:VTIMEZONE
BEGIN:VEVENT
DTSTART;TZID=Europe/Amsterdam:20260624T090000
DTEND;TZID=Europe/Amsterdam:20260625T170000
DTSTAMP:20260424T121710
CREATED:20260303T163651Z
LAST-MODIFIED:20260303T163651Z
UID:10000115-1782291600-1782406800@xla.institute
SUMMARY:Experience Management and XLA® Practitioner
DESCRIPTION:XM & XLA® Foundation is a fully interactive and hands on course that takes attendees on a journey through the Experience Optimization Framework\, the process of identifying\, designing\, implementing and managing experience. \nXM & XLA® Foundation provides attendees with best practices and guidance for these tasks with practical exercises in each phase to cement learning\, enabling attendees to take the first steps on the experience management journey within their organisation. \nOverview: \n\nWhat is Experience Management\nHow to Measure Experience (including the Experience Management Frameworks)\nCase Study Assignment (Lime Grove Airport)\nSix Phase Experience Optimization Framework approach for the design and implementation of XLAs:\n\nEnlighten - Raising awareness of experience within your organisation\, inspiring the experience ecosystem\nExplore - Knowing where you currently are with experience\nEnvision - Determining where you want your experience to be\nEnable - Designing and identifying the experience indicators that will measure experience\nExecute - Putting your XLAs into operation and introducing the XLA-overseeing team\, the experience management office (XMO)\nEmbrace - Governing\, improving and innovating experience going forward.\n\n\n\nXM and XLA® Foundation is typically delivered virtually\, with onsite delivery possible upon a client's request. \nAccreditor: Van Haren \nCost: €1\,500 \n\n\n	\n		\n\n			Register your place:
URL:https://xla.institute/training/experience-management-and-xla-practitioner-4/
CATEGORIES:XM and XLA® Practitioner
ATTACH;FMTTYPE=image/png:https://xla.institute/wp-content/uploads/Suerte-Academy-370-x-80.png
ORGANIZER;CN="Suerte Academy":MAILTO:info@suerte-academy.nl
END:VEVENT
BEGIN:VEVENT
DTSTART;TZID=Asia/Kolkata:20260704T090000
DTEND;TZID=Asia/Kolkata:20260705T170000
DTSTAMP:20260424T121710
CREATED:20260130T113528Z
LAST-MODIFIED:20260130T114212Z
UID:10000107-1783155600-1783270800@xla.institute
SUMMARY:XLA Foundation Certification
DESCRIPTION:XM & XLA® Foundation is a fully interactive and hands on course that takes attendees on a journey through the Experience Optimization Framework\, the process of identifying\, designing\, implementing and managing experience. \nXM & XLA® Foundation provides attendees with best practices and guidance for these tasks with practical exercises in each phase to cement learning\, enabling attendees to take the first steps on the experience management journey within their organisation. \nOverview: \n\nWhat is Experience Management\nHow to Measure Experience (including the Experience Management Frameworks)\nCase Study Assignment (Lime Grove Airport)\nSix Phase Experience Optimization Framework approach for the design and implementation of XLAs:\n\nEnlighten - Raising awareness of experience within your organisation\, inspiring the experience ecosystem\nExplore - Knowing where you currently are with experience\nEnvision - Determining where you want your experience to be\nEnable - Designing and identifying the experience indicators that will measure experience\nExecute - Putting your XLAs into operation and introducing the XLA-overseeing team\, the experience management office (XMO)\nEmbrace - Governing\, improving and innovating experience going forward.\n\n\n\nXM and XLA® Foundation is typically delivered virtually\, with onsite delivery possible upon a client's request. \nAccreditor: Van Haren \nCost: €1\,500 \n\n\n	\n		\n\n			Register your place:
URL:https://xla.institute/training/xla-foundation-certification-2/
CATEGORIES:Experience Foundation
ATTACH;FMTTYPE=image/png:https://xla.institute/wp-content/uploads/TaUB-Solutions-Logo-250-x-143-px.png
ORGANIZER;CN="TaUB Solutions":MAILTO:info@taubsolutions.com
END:VEVENT
BEGIN:VEVENT
DTSTART;TZID=Europe/London:20260721T093000
DTEND;TZID=Europe/London:20260722T160000
DTSTAMP:20260424T121710
CREATED:20260128T153533Z
LAST-MODIFIED:20260415T105849Z
UID:10000105-1784626200-1784736000@xla.institute
SUMMARY:Experience Management and XLA® Practitioner
DESCRIPTION:XM & XLA® Foundation is a fully interactive and hands on course that takes attendees on a journey through the Experience Optimization Framework\, the process of identifying\, designing\, implementing and managing experience. \nXM & XLA® Foundation provides attendees with best practices and guidance for these tasks with practical exercises in each phase to cement learning\, enabling attendees to take the first steps on the experience management journey within their organisation. \nOverview: \n\nWhat is Experience Management\nHow to Measure Experience (including the Experience Management Frameworks)\nCase Study Assignment (Lime Grove Airport)\nSix Phase Experience Optimization Framework approach for the design and implementation of XLAs:\n\nEnlighten - Raising awareness of experience within your organisation\, inspiring the experience ecosystem\nExplore - Knowing where you currently are with experience\nEnvision - Determining where you want your experience to be\nEnable - Designing and identifying the experience indicators that will measure experience\nExecute - Putting your XLAs into operation and introducing the XLA-overseeing team\, the experience management office (XMO)\nEmbrace - Governing\, improving and innovating experience going forward.\n\n\n\nXM and XLA® Foundation is typically delivered virtually\, with onsite delivery possible upon a client's request. \nAccreditor: Van Haren \nCost: €1\,500 \n\n\n	\n		\n\n			Register your place:
URL:https://xla.institute/training/experience-management-and-xla-practitioner-2/
CATEGORIES:XM and XLA® Practitioner
ATTACH;FMTTYPE=image/png:https://xla.institute/wp-content/uploads/XLABS-event-icon.png
END:VEVENT
BEGIN:VEVENT
DTSTART;TZID=America/New_York:20260910T080000
DTEND;TZID=America/New_York:20260911T160000
DTSTAMP:20260424T121710
CREATED:20260130T114705Z
LAST-MODIFIED:20260130T114705Z
UID:10000108-1789027200-1789142400@xla.institute
SUMMARY:XLA Foundation Certification
DESCRIPTION:XM & XLA® Foundation is a fully interactive and hands on course that takes attendees on a journey through the Experience Optimization Framework\, the process of identifying\, designing\, implementing and managing experience. \nXM & XLA® Foundation provides attendees with best practices and guidance for these tasks with practical exercises in each phase to cement learning\, enabling attendees to take the first steps on the experience management journey within their organisation. \nOverview: \n\nWhat is Experience Management\nHow to Measure Experience (including the Experience Management Frameworks)\nCase Study Assignment (Lime Grove Airport)\nSix Phase Experience Optimization Framework approach for the design and implementation of XLAs:\n\nEnlighten - Raising awareness of experience within your organisation\, inspiring the experience ecosystem\nExplore - Knowing where you currently are with experience\nEnvision - Determining where you want your experience to be\nEnable - Designing and identifying the experience indicators that will measure experience\nExecute - Putting your XLAs into operation and introducing the XLA-overseeing team\, the experience management office (XMO)\nEmbrace - Governing\, improving and innovating experience going forward.\n\n\n\nXM and XLA® Foundation is typically delivered virtually\, with onsite delivery possible upon a client's request. \nAccreditor: Van Haren \nCost: €1\,500 \n\n\n	\n		\n\n			Register your place:
URL:https://xla.institute/training/xla-foundation-certification-3/
CATEGORIES:Experience Foundation
ATTACH;FMTTYPE=image/png:https://xla.institute/wp-content/uploads/TaUB-Solutions-Logo-250-x-143-px.png
ORGANIZER;CN="TaUB Solutions":MAILTO:info@taubsolutions.com
END:VEVENT
BEGIN:VEVENT
DTSTART;TZID=Asia/Kolkata:20261128T090000
DTEND;TZID=Asia/Kolkata:20261129T170000
DTSTAMP:20260424T121710
CREATED:20260130T115238Z
LAST-MODIFIED:20260130T115238Z
UID:10000109-1795856400-1795971600@xla.institute
SUMMARY:XLA Foundation Certification
DESCRIPTION:XM & XLA® Foundation is a fully interactive and hands on course that takes attendees on a journey through the Experience Optimization Framework\, the process of identifying\, designing\, implementing and managing experience. \nXM & XLA® Foundation provides attendees with best practices and guidance for these tasks with practical exercises in each phase to cement learning\, enabling attendees to take the first steps on the experience management journey within their organisation. \nOverview: \n\nWhat is Experience Management\nHow to Measure Experience (including the Experience Management Frameworks)\nCase Study Assignment (Lime Grove Airport)\nSix Phase Experience Optimization Framework approach for the design and implementation of XLAs:\n\nEnlighten - Raising awareness of experience within your organisation\, inspiring the experience ecosystem\nExplore - Knowing where you currently are with experience\nEnvision - Determining where you want your experience to be\nEnable - Designing and identifying the experience indicators that will measure experience\nExecute - Putting your XLAs into operation and introducing the XLA-overseeing team\, the experience management office (XMO)\nEmbrace - Governing\, improving and innovating experience going forward.\n\n\n\nXM and XLA® Foundation is typically delivered virtually\, with onsite delivery possible upon a client's request. \nAccreditor: Van Haren \nCost: €1\,500 \n\n\n	\n		\n\n			Register your place:
URL:https://xla.institute/training/xla-foundation-certification-4/
CATEGORIES:Experience Foundation
ATTACH;FMTTYPE=image/png:https://xla.institute/wp-content/uploads/TaUB-Solutions-Logo-250-x-143-px.png
ORGANIZER;CN="TaUB Solutions":MAILTO:info@taubsolutions.com
END:VEVENT
END:VCALENDAR