BEGIN:VCALENDAR
VERSION:2.0
PRODID:-//XLA Institute - ECPv6.15.20//NONSGML v1.0//EN
CALSCALE:GREGORIAN
METHOD:PUBLISH
X-WR-CALNAME:XLA Institute
X-ORIGINAL-URL:https://xla.institute
X-WR-CALDESC:Events for XLA Institute
REFRESH-INTERVAL;VALUE=DURATION:PT1H
X-Robots-Tag:noindex
X-PUBLISHED-TTL:PT1H
BEGIN:VTIMEZONE
TZID:Europe/London
BEGIN:DAYLIGHT
TZOFFSETFROM:+0000
TZOFFSETTO:+0100
TZNAME:BST
DTSTART:20250330T010000
END:DAYLIGHT
BEGIN:STANDARD
TZOFFSETFROM:+0100
TZOFFSETTO:+0000
TZNAME:GMT
DTSTART:20251026T010000
END:STANDARD
BEGIN:DAYLIGHT
TZOFFSETFROM:+0000
TZOFFSETTO:+0100
TZNAME:BST
DTSTART:20260329T010000
END:DAYLIGHT
BEGIN:STANDARD
TZOFFSETFROM:+0100
TZOFFSETTO:+0000
TZNAME:GMT
DTSTART:20261025T010000
END:STANDARD
BEGIN:DAYLIGHT
TZOFFSETFROM:+0000
TZOFFSETTO:+0100
TZNAME:BST
DTSTART:20270328T010000
END:DAYLIGHT
BEGIN:STANDARD
TZOFFSETFROM:+0100
TZOFFSETTO:+0000
TZNAME:GMT
DTSTART:20271031T010000
END:STANDARD
END:VTIMEZONE
BEGIN:VEVENT
DTSTART;TZID=Europe/London:20260120T140000
DTEND;TZID=Europe/London:20260120T144500
DTSTAMP:20260424T131044
CREATED:20251023T093104Z
LAST-MODIFIED:20251219T112022Z
UID:10000094-1768917600-1768920300@xla.institute
SUMMARY:Tooling Tuesday - Riverbed
DESCRIPTION:Join us as we welcome Robin Marchand and Ramond Keesmeker\, Managing Consultants from XLABS\, who will demonstrate how their solutions can solve your experience management challenges. \nYou'll discover practical ways to measure and improve experience that can give you a competitive edge\, from a trailblazer in experience management solutions. \nAgenda:\n\nThe XLA Framework (XRM)\nTooling landscape in the experience management XLA landscape\nHow to manage your experience with XMO as a product with concrete X\, O and T data metrices\nQuestions & Answers\n\n\n	\n\n\n\n			\n	\n	\n		\n	XLABS\nXLABS is a trailblazer in the field of XLA. Founded by a team of experienced entrepreneurs\, among them the founding father of XLA\, Marco Gianotten\, XLABS provides a broad range of training and consulting services\, as well as advice on technology and tool selection. \n\n	\n\n\n\n	\n\n	\n		\n\n			Register your place:\n	\n	\n	\n\n                \n                        Naam(Required)\n                            \n                            \n                                                    \n                                                    First\n                                                \n                            \n                            \n                                                    \n                                                    Last\n                                                \n                            \n                        Job Title(Required)Company(Required)E-mailadres(Required)
URL:https://xla.institute/training/tooling-tuesday-riverbed/
CATEGORIES:Tooling Tuesday
ATTACH;FMTTYPE=image/png:https://xla.institute/wp-content/uploads/riverbed-logo.png
END:VEVENT
END:VCALENDAR