BEGIN:VCALENDAR
VERSION:2.0
PRODID:-//XLA Institute - ECPv6.15.20//NONSGML v1.0//EN
CALSCALE:GREGORIAN
METHOD:PUBLISH
X-ORIGINAL-URL:https://xla.institute
X-WR-CALDESC:Events for XLA Institute
REFRESH-INTERVAL;VALUE=DURATION:PT1H
X-Robots-Tag:noindex
X-PUBLISHED-TTL:PT1H
BEGIN:VTIMEZONE
TZID:Europe/London
BEGIN:DAYLIGHT
TZOFFSETFROM:+0000
TZOFFSETTO:+0100
TZNAME:BST
DTSTART:20230326T010000
END:DAYLIGHT
BEGIN:STANDARD
TZOFFSETFROM:+0100
TZOFFSETTO:+0000
TZNAME:GMT
DTSTART:20231029T010000
END:STANDARD
BEGIN:DAYLIGHT
TZOFFSETFROM:+0000
TZOFFSETTO:+0100
TZNAME:BST
DTSTART:20240331T010000
END:DAYLIGHT
BEGIN:STANDARD
TZOFFSETFROM:+0100
TZOFFSETTO:+0000
TZNAME:GMT
DTSTART:20241027T010000
END:STANDARD
BEGIN:DAYLIGHT
TZOFFSETFROM:+0000
TZOFFSETTO:+0100
TZNAME:BST
DTSTART:20250330T010000
END:DAYLIGHT
BEGIN:STANDARD
TZOFFSETFROM:+0100
TZOFFSETTO:+0000
TZNAME:GMT
DTSTART:20251026T010000
END:STANDARD
END:VTIMEZONE
BEGIN:VEVENT
DTSTART;VALUE=DATE:20241118
DTEND;VALUE=DATE:20241120
DTSTAMP:20260423T114600
CREATED:20240930T145538Z
LAST-MODIFIED:20241031T111530Z
UID:10000014-1731888000-1732060799@xla.institute
SUMMARY:Foundation of XM and XLA®
DESCRIPTION:Overview\nThe XLA Foundation certification course will enhance your expertise in customer experience management. The course is tailored for professionals managing customer relationships\, and offers an in-depth exploration of the XM and XLA® concepts\, blending theoretical insights with practical applications. \nThis 2-day virtual course offers a comprehensive introduction to Experience Management (XM) and Xperience Level Agreement (XLA®). It is ideal for professionals like Service and Experience Managers\, and Support professionals\, it focuses on improving end-user experience and business impact using XM and XLA® methods. \nThe course covers the fundamentals of XM and XLA\, practical implementation skills\, and includes both theoretical lessons and group assignments. Successful completion awards an XM and XLA® Foundation certificate\, affirming your proficiency in these crucial business strategies. \nLearning outcomes\nMain subjects that will be discussed in XLA Foundation virtual course are: \n\nTechniques of improving customer experience\nSignificance of XM and XLA in business\nDevelopment of practical skills to apply XM and XLA frameworks effectively\n\nCourse Outlines\nWith the omnipresence of digital technology in our modern society and the increasing dependence on it\, contractual relationships and Service Level Agreements (SLAs) have become a necessity in IT. \nHowever\, relying solely on SLAs can lead to a situation where everyone works in their own silo\, often neglecting the impact on the customer’s business and the people they serve. SLAs are task-based on minimum accepted quality and risk avoidance. In today’s business and IT landscape\, we need more than technical output to ensure user and employee satisfaction. We need a standardized approach to measure how services are perceived; this is where Xperience Level Agreement (XLA®) comes into play. \nXLA® is a commitment between service providers and clients to optimize the outcome of digital and technology on humans and business. Experience Management (XM) is a set of activities that achieves a better experience and greater business impact by driving and improving collaboration. Prioritizing XM and XLA® is the key to satisfaction for both end users and employees. \nVirtual Courses:\nVirtual training is provided via Microsoft Teams. Virtual training requires delegates to have access to a stable internet connection throughout the course and a headset with a microphone to communicate with the instructor. \nExam Information:\n40 Multiple-choice questions \n32 marks required to pass – 80 % \n60 minutes exam duration \nClosed book \nOnline examinations are held by Van Haren Publishing Group. \nPrerequisites\n\nThere are no prerequisites for this course. \n\nCost\n£1250 ex VAT (limited availability) \n\n	\n\n\n\n	\n\n\n			\n	\n	\n		\n\n			\n							Save your Place
URL:https://xla.institute/training/foundation-of-xm-and-xla/
CATEGORIES:Foundation of XM and XLA®
ATTACH;FMTTYPE=image/jpeg:https://xla.institute/wp-content/uploads/PinkElephant-Logo.jpg
ORGANIZER;CN="Pink Elephant":MAILTO:info@pinkelephant.co.uk
END:VEVENT
END:VCALENDAR