BEGIN:VCALENDAR
VERSION:2.0
PRODID:-//XLA Institute - ECPv6.15.20//NONSGML v1.0//EN
CALSCALE:GREGORIAN
METHOD:PUBLISH
X-ORIGINAL-URL:https://xla.institute
X-WR-CALDESC:Events for XLA Institute
REFRESH-INTERVAL;VALUE=DURATION:PT1H
X-Robots-Tag:noindex
X-PUBLISHED-TTL:PT1H
BEGIN:VTIMEZONE
TZID:America/New_York
BEGIN:DAYLIGHT
TZOFFSETFROM:-0500
TZOFFSETTO:-0400
TZNAME:EDT
DTSTART:20250309T070000
END:DAYLIGHT
BEGIN:STANDARD
TZOFFSETFROM:-0400
TZOFFSETTO:-0500
TZNAME:EST
DTSTART:20251102T060000
END:STANDARD
BEGIN:DAYLIGHT
TZOFFSETFROM:-0500
TZOFFSETTO:-0400
TZNAME:EDT
DTSTART:20260308T070000
END:DAYLIGHT
BEGIN:STANDARD
TZOFFSETFROM:-0400
TZOFFSETTO:-0500
TZNAME:EST
DTSTART:20261101T060000
END:STANDARD
BEGIN:DAYLIGHT
TZOFFSETFROM:-0500
TZOFFSETTO:-0400
TZNAME:EDT
DTSTART:20270314T070000
END:DAYLIGHT
BEGIN:STANDARD
TZOFFSETFROM:-0400
TZOFFSETTO:-0500
TZNAME:EST
DTSTART:20271107T060000
END:STANDARD
END:VTIMEZONE
BEGIN:VTIMEZONE
TZID:Asia/Kolkata
BEGIN:STANDARD
TZOFFSETFROM:+0530
TZOFFSETTO:+0530
TZNAME:IST
DTSTART:20250101T000000
END:STANDARD
END:VTIMEZONE
BEGIN:VEVENT
DTSTART;TZID=America/New_York:20260514T080000
DTEND;TZID=America/New_York:20260515T160000
DTSTAMP:20260424T022247
CREATED:20260130T112938Z
LAST-MODIFIED:20260130T112938Z
UID:10000106-1778745600-1778860800@xla.institute
SUMMARY:XLA Foundation Certification
DESCRIPTION:Experience Foundation is a fully interactive and hands on course that takes attendees on a journey through the Experience Optimization Framework\, the process of identifying\, designing\, implementing and managing experience. \nExperience Foundation provides attendees with best practices and guidance for these tasks with practical exercises in each phase to cement learning\, enabling attendees to take the first steps on the experience management journey within their organisation. \nOverview: \n\nWhat is Experience Management\nHow to Measure Experience (including the Experience Management Frameworks)\nCase Study Assignment (Lime Grove Airport)\nSix Phase Experience Optimization Framework approach for the design and implementation of XLAs:\n\nEnlighten - Raising awareness of experience within your organisation\, inspiring the experience ecosystem\nExplore - Knowing where you currently are with experience\nEnvision - Determining where you want your experience to be\nEnable - Designing and identifying the experience indicators that will measure experience\nExecute - Putting your XLAs into operation and introducing the XLA-overseeing team\, the experience management office (XMO)\nEmbrace - Governing\, improving and innovating experience going forward.\n\n\n\nExperience Foundation is typically delivered virtually\, with onsite delivery possible upon a client's request. \nAccreditor: APMG International \nCost: £1\,495\, includes exam - worth £295 \n\n\n	\n		\n\n			Register your place:\n	\n	\n	\n\n                \n                        Naam(Required)\n                            \n                            \n                                                    \n                                                    First\n                                                \n                            \n                            \n                                                    \n                                                    Last\n                                                \n                            \n                        Job Title(Required)Company(Required)E-mailadres(Required)
URL:https://xla.institute/training/xla-foundation-certification-1/
CATEGORIES:Experience Foundation
ATTACH;FMTTYPE=image/png:https://xla.institute/wp-content/uploads/TaUB-Solutions-Logo-250-x-143-px.png
ORGANIZER;CN="TaUB Solutions":MAILTO:info@taubsolutions.com
END:VEVENT
BEGIN:VEVENT
DTSTART;TZID=Asia/Kolkata:20260530T093000
DTEND;TZID=Asia/Kolkata:20260531T173000
DTSTAMP:20260424T022247
CREATED:20260324T113727Z
LAST-MODIFIED:20260414T095038Z
UID:10000120-1780133400-1780248600@xla.institute
SUMMARY:XLA Foundation Certification
DESCRIPTION:Experience Foundation is a fully interactive and hands on course that takes attendees on a journey through the Experience Optimization Framework\, the process of identifying\, designing\, implementing and managing experience. \nExperience Foundation provides attendees with best practices and guidance for these tasks with practical exercises in each phase to cement learning\, enabling attendees to take the first steps on the experience management journey within their organisation. \nOverview: \n\nWhat is Experience Management\nHow to Measure Experience (including the Experience Management Frameworks)\nCase Study Assignment (Lime Grove Airport)\nSix Phase Experience Optimization Framework approach for the design and implementation of XLAs:\n\nEnlighten - Raising awareness of experience within your organisation\, inspiring the experience ecosystem\nExplore - Knowing where you currently are with experience\nEnvision - Determining where you want your experience to be\nEnable - Designing and identifying the experience indicators that will measure experience\nExecute - Putting your XLAs into operation and introducing the XLA-overseeing team\, the experience management office (XMO)\nEmbrace - Governing\, improving and innovating experience going forward.\n\n\n\nExperience Foundation is typically delivered virtually\, with onsite delivery possible upon a client's request. \nAccreditor: APMG International \nCost: £1\,495\, includes exam - worth £295 \n\n\n	\n		\n\n			Register your place:\n	\n	\n	\n                \n                        Naam(Required)\n                            \n                            \n                                                    \n                                                    First\n                                                \n                            \n                            \n                                                    \n                                                    Last\n                                                \n                            \n                        Job Title(Required)Company(Required)E-mailadres(Required)
URL:https://xla.institute/training/xla-foundation-certification/
CATEGORIES:Experience Foundation
ATTACH;FMTTYPE=image/png:https://xla.institute/wp-content/uploads/TaUB-Solutions-Logo-250-x-143-px.png
ORGANIZER;CN="TaUB Solutions":MAILTO:info@taubsolutions.com
END:VEVENT
END:VCALENDAR