BEGIN:VCALENDAR
VERSION:2.0
PRODID:-//XLA Institute - ECPv6.15.20//NONSGML v1.0//EN
CALSCALE:GREGORIAN
METHOD:PUBLISH
X-WR-CALNAME:XLA Institute
X-ORIGINAL-URL:https://xla.institute
X-WR-CALDESC:Events for XLA Institute
REFRESH-INTERVAL;VALUE=DURATION:PT1H
X-Robots-Tag:noindex
X-PUBLISHED-TTL:PT1H
BEGIN:VTIMEZONE
TZID:Europe/London
BEGIN:DAYLIGHT
TZOFFSETFROM:+0000
TZOFFSETTO:+0100
TZNAME:BST
DTSTART:20250330T010000
END:DAYLIGHT
BEGIN:STANDARD
TZOFFSETFROM:+0100
TZOFFSETTO:+0000
TZNAME:GMT
DTSTART:20251026T010000
END:STANDARD
BEGIN:DAYLIGHT
TZOFFSETFROM:+0000
TZOFFSETTO:+0100
TZNAME:BST
DTSTART:20260329T010000
END:DAYLIGHT
BEGIN:STANDARD
TZOFFSETFROM:+0100
TZOFFSETTO:+0000
TZNAME:GMT
DTSTART:20261025T010000
END:STANDARD
BEGIN:DAYLIGHT
TZOFFSETFROM:+0000
TZOFFSETTO:+0100
TZNAME:BST
DTSTART:20270328T010000
END:DAYLIGHT
BEGIN:STANDARD
TZOFFSETFROM:+0100
TZOFFSETTO:+0000
TZNAME:GMT
DTSTART:20271031T010000
END:STANDARD
END:VTIMEZONE
BEGIN:VEVENT
DTSTART;TZID=Europe/London:20260211T153000
DTEND;TZID=Europe/London:20260211T190000
DTSTAMP:20260423T182904
CREATED:20251216T100312Z
LAST-MODIFIED:20260115T095725Z
UID:10000100-1770823800-1770836400@xla.institute
SUMMARY:Member Meetup - hosted by TeamViewer
DESCRIPTION:TeamViewer Member Meetup | Wednesday\, 11th February | Barbican Centre\, Central London \nJoin us for an unmissable afternoon of insights\, collaboration\, and connection with fellow XLA professionals at the Barbican Centre\, hosted by Premium Member\, TeamViewer. \nLearn from seasoned practitioners as they share real-world expertise on advancing your XLA journey. Amanda Rutledge from QBE will explore why technology is critical to your experience journey\, while Neil Keating from XLABS will guide you through the transition from SLAs to XLAs. \nTake this perfect opportunity to exchange knowledge and experiences with fellow professionals from the Experience Management and XLA field. \n	Event Schedule\n\n15:30 – 16:00: Arrival & Registration\n16:00 – 16:15: Welcome by Matthew Percy (TeamViewer)\n16:15 – 16:20: Introduction to XLA Institute – Arie Langerak\n16:20 – 16:50: From SLA to XLA – Neil Keating (XLABS)\n16:50 – 17:05: Break\n17:05 – 17:35: Why tooling is critical to your Experience journey – Amanda Rutledge (QBE)\n17:35 – 18:00: Panel discussion: How to get started with XLAs\n18:00 – 19:00: Closing & Drinks\n\nFor those who have not attended a Member Meetup before\, these are events exclusive to XLA Institute members\, designed for practical knowledge exchange\, meaningful discussion\, and provide an update on activities within the XLA Institute. Each presentation includes interactive elements where we’ll explore key statements and challenge ideas together.
URL:https://xla.institute/training/member-meetup-teamviewer/
CATEGORIES:Meetup
ATTACH;FMTTYPE=image/png:https://xla.institute/wp-content/uploads/TeamViewer-Logo-Event-Page.png
END:VEVENT
END:VCALENDAR